BEGIN:VCALENDAR
VERSION:2.0
PRODID:spatie/icalendar-generator
DESCRIPTION:Events from Národní platforma Open Science
X-WR-CALDESC:Events from Národní platforma Open Science
REFRESH-INTERVAL;VALUE=DURATION:PT1440M
X-PUBLISHED-TTL:PT1440M
BEGIN:VTIMEZONE
TZID:Etc/GMT+0
BEGIN:STANDARD
DTSTART:20240728T000000Z
TZOFFSETFROM:+0000
TZOFFSETTO:+0000
END:STANDARD
END:VTIMEZONE
BEGIN:VTIMEZONE
TZID:UTC
BEGIN:STANDARD
DTSTART:20250725T031842Z
TZOFFSETFROM:+0000
TZOFFSETTO:+0000
END:STANDARD
END:VTIMEZONE
BEGIN:VEVENT
UID:100-100
DTSTAMP:20260421T031842Z
SUMMARY:Setkání OA administrátorů (CzechELib)
LOCATION:
ORGANIZER;CN=admin:MAILTO:admin@openscience.cz
DTSTART;TZID=Etc/GMT+0;VALUE=DATE:20250424
DTEND;TZID=Etc/GMT+0;VALUE=DATE:20250425
X-ALT-DESC;FMTTYPE=TEXT/HTML:<p>Online</p>\n<p>Program webináře<br />\n- 
 seznámení se stavem čerpání tokenů u jednotlivých EIZ<br />\n- nej
 častější komplikace při čerpání tokenů<br />\n- prostor pro dotaz
 y</p>\n
CATEGORIES:
URL;VALUE=URI:https://openscience.cz/mc-events/setkani-oa-administratoru-cz
 echelib/?mc_id=100
END:VEVENT
END:VCALENDAR