BEGIN:VCALENDAR
VERSION:2.0
PRODID:spatie/icalendar-generator
DESCRIPTION:Events from Národní platforma Open Science
X-WR-CALDESC:Events from Národní platforma Open Science
REFRESH-INTERVAL;VALUE=DURATION:PT1440M
X-PUBLISHED-TTL:PT1440M
BEGIN:VTIMEZONE
TZID:Etc/GMT+0
BEGIN:STANDARD
DTSTART:20240921T000000Z
TZOFFSETFROM:+0000
TZOFFSETTO:+0000
END:STANDARD
END:VTIMEZONE
BEGIN:VTIMEZONE
TZID:UTC
BEGIN:STANDARD
DTSTART:20250724T033211Z
TZOFFSETFROM:+0000
TZOFFSETTO:+0000
END:STANDARD
END:VTIMEZONE
BEGIN:VEVENT
UID:103-103
DTSTAMP:20260420T033211Z
SUMMARY:Global Lessons\, Local Contexts – Regional Perspectives on Open S
 cience Education
LOCATION:
ORGANIZER;CN=admin:MAILTO:admin@openscience.cz
DTSTART;TZID=Etc/GMT+0;VALUE=DATE:20250618
DTEND;TZID=Etc/GMT+0;VALUE=DATE:20250619
X-ALT-DESC;FMTTYPE=TEXT/HTML:<p>Pořadatel: COS a NERQ</p>\n<p>Online</p>\n
 <p>Bližší informace a možnost registrace naleznete na <a href="https://cos-io.zoom.us/webinar/register/4117472337873/WN_m8Wo4Z5mRO6PDxNnsH4B2Q#
 /registration" target="_blank">webu události</a>.</p>\n
CATEGORIES:
URL;VALUE=URI:https://openscience.cz/mc-events/global-lessons-local-context
 s-regional-perspectives-on-open-science-education/?mc_id=103
END:VEVENT
END:VCALENDAR