BEGIN:VCALENDAR
VERSION:2.0
PRODID:spatie/icalendar-generator
DESCRIPTION:Events from Národní platforma Open Science
X-WR-CALDESC:Events from Národní platforma Open Science
REFRESH-INTERVAL;VALUE=DURATION:PT1440M
X-PUBLISHED-TTL:PT1440M
BEGIN:VTIMEZONE
TZID:Etc/GMT+0
BEGIN:STANDARD
DTSTART:20240928T000000Z
TZOFFSETFROM:+0000
TZOFFSETTO:+0000
END:STANDARD
END:VTIMEZONE
BEGIN:VTIMEZONE
TZID:UTC
BEGIN:STANDARD
DTSTART:20250723T205335Z
TZOFFSETFROM:+0000
TZOFFSETTO:+0000
END:STANDARD
END:VTIMEZONE
BEGIN:VEVENT
UID:105-105
DTSTAMP:20260419T205335Z
SUMMARY:OS Workshop na MUNI
LOCATION:Masarykova univerzita Komenského nám. 2  Brno
ORGANIZER;CN=admin:MAILTO:admin@openscience.cz
DTSTART;TZID=Etc/GMT+0;VALUE=DATE:20250625
DTEND;TZID=Etc/GMT+0;VALUE=DATE:20250626
X-ALT-DESC;FMTTYPE=TEXT/HTML:<p>Pořadatel: Masarykova univerzita ve spolup
 ráci se Školicím centrem EOSC CZ</p>\n<p>Školení bude probíhat preze
 nční i online formou.</p>\n<p>Bližší informace a možnost registrace 
 naleznete na <a href="https://www.eosc.cz/novinky-a-akce/kalendar-akci/os
 -workshop-na-muni" target="_blank">webu události</a>.</p>\n
CATEGORIES:
URL;VALUE=URI:https://openscience.cz/mc-events/os-workshop-na-muni/?mc_id=1
 05
END:VEVENT
END:VCALENDAR