BEGIN:VCALENDAR
VERSION:2.0
PRODID:spatie/icalendar-generator
DESCRIPTION:Events from Národní platforma Open Science
X-WR-CALDESC:Events from Národní platforma Open Science
REFRESH-INTERVAL;VALUE=DURATION:PT1440M
X-PUBLISHED-TTL:PT1440M
BEGIN:VTIMEZONE
TZID:Etc/GMT+0
BEGIN:STANDARD
DTSTART:20250227T000000Z
TZOFFSETFROM:+0000
TZOFFSETTO:+0000
END:STANDARD
END:VTIMEZONE
BEGIN:VTIMEZONE
TZID:UTC
BEGIN:STANDARD
DTSTART:20250723T203726Z
TZOFFSETFROM:+0000
TZOFFSETTO:+0000
END:STANDARD
END:VTIMEZONE
BEGIN:VEVENT
UID:106-106
DTSTAMP:20260419T203726Z
SUMMARY:Open Source Hardware Konferenz
LOCATION:
ORGANIZER;CN=admin:MAILTO:admin@openscience.cz
DTSTART;TZID=Etc/GMT+0;VALUE=DATE:20251124
DTEND;TZID=Etc/GMT+0;VALUE=DATE:20251126
X-ALT-DESC;FMTTYPE=TEXT/HTML:<p>Bližší informace naleznete na <a href="https://www.oshop-network.de/konferenz-2025/" target="_blank">webu konf
 erence</a>.</p>\n
CATEGORIES:
URL;VALUE=URI:https://openscience.cz/mc-events/open-source-hardware-konfere
 nz/?mc_id=106
END:VEVENT
END:VCALENDAR