BEGIN:VCALENDAR
VERSION:2.0
PRODID:spatie/icalendar-generator
DESCRIPTION:Events from Národní platforma Open Science
X-WR-CALDESC:Events from Národní platforma Open Science
REFRESH-INTERVAL;VALUE=DURATION:PT1440M
X-PUBLISHED-TTL:PT1440M
BEGIN:VTIMEZONE
TZID:Etc/GMT+0
BEGIN:STANDARD
DTSTART:20250110T000000Z
TZOFFSETFROM:+0000
TZOFFSETTO:+0000
END:STANDARD
END:VTIMEZONE
BEGIN:VTIMEZONE
TZID:UTC
BEGIN:STANDARD
DTSTART:20250723T170120Z
TZOFFSETFROM:+0000
TZOFFSETTO:+0000
END:STANDARD
END:VTIMEZONE
BEGIN:VEVENT
UID:118-117
DTSTAMP:20260419T170120Z
SUMMARY:Libraries and Open Science – Overlaps and Gaps with the Research 
 Community
LOCATION:
ORGANIZER;CN=admin:MAILTO:admin@openscience.cz
DTSTART;TZID=Etc/GMT+0;VALUE=DATE:20251007
DTEND;TZID=Etc/GMT+0;VALUE=DATE:20251008
X-ALT-DESC;FMTTYPE=TEXT/HTML:<p>Pořadatel: OSF</p>\n<p>Bližší informace
  a možnost registrace jsou k dispozici na <a href="https://cos-io.zoom.u
 s/webinar/register/3717513958769/WN_UzPkhT6GTBO2DZgqtQdCCA#/registration" target="_blank">webu události</a>.</p>\n
CATEGORIES:
URL;VALUE=URI:https://openscience.cz/mc-events/libraries-and-open-science-o
 verlaps-and-gaps-with-the-research-community/?mc_id=118
END:VEVENT
END:VCALENDAR