BEGIN:VCALENDAR
VERSION:2.0
PRODID:spatie/icalendar-generator
DESCRIPTION:Events from Národní platforma Open Science
X-WR-CALDESC:Events from Národní platforma Open Science
REFRESH-INTERVAL;VALUE=DURATION:PT1440M
X-PUBLISHED-TTL:PT1440M
BEGIN:VTIMEZONE
TZID:Etc/GMT+0
BEGIN:STANDARD
DTSTART:20250628T000000Z
TZOFFSETFROM:+0000
TZOFFSETTO:+0000
END:STANDARD
END:VTIMEZONE
BEGIN:VTIMEZONE
TZID:UTC
BEGIN:STANDARD
DTSTART:20250723T120134Z
TZOFFSETFROM:+0000
TZOFFSETTO:+0000
END:STANDARD
END:VTIMEZONE
BEGIN:VEVENT
UID:119-118
DTSTAMP:20260419T120134Z
SUMMARY:3rd FAIR Digital Objects Conference
LOCATION:TU Wien
ORGANIZER;CN=admin:MAILTO:admin@openscience.cz
DTSTART;TZID=Etc/GMT+0;VALUE=DATE:20260325
DTEND;TZID=Etc/GMT+0;VALUE=DATE:20260328
X-ALT-DESC;FMTTYPE=TEXT/HTML:<p>Pořadatelé: <a href="https://www.tuwien.
 at/" target="_blank">TU Wien</a> a <a href="https://fairdo.org/">FAIR Digital Objects</a></p>\n<p>Bližší informace jsou k 
 dispozici na <a href="https://fairdo.org/fdo-conference-2026/" target="
 _blank">webu konference</a>.</p>\n
CATEGORIES:
URL;VALUE=URI:https://openscience.cz/mc-events/3rd-fair-digital-objects-con
 ference/?mc_id=119
END:VEVENT
END:VCALENDAR