BEGIN:VCALENDAR
VERSION:2.0
PRODID:spatie/icalendar-generator
DESCRIPTION:Events from Národní platforma Open Science
X-WR-CALDESC:Events from Národní platforma Open Science
REFRESH-INTERVAL;VALUE=DURATION:PT1440M
X-PUBLISHED-TTL:PT1440M
BEGIN:VTIMEZONE
TZID:Etc/GMT+0
BEGIN:STANDARD
DTSTART:20241220T000000Z
TZOFFSETFROM:+0000
TZOFFSETTO:+0000
END:STANDARD
END:VTIMEZONE
BEGIN:VTIMEZONE
TZID:UTC
BEGIN:STANDARD
DTSTART:20250723T153340Z
TZOFFSETFROM:+0000
TZOFFSETTO:+0000
END:STANDARD
END:VTIMEZONE
BEGIN:VEVENT
UID:120-119
DTSTAMP:20260419T153340Z
SUMMARY:European Research &amp;amp\; Innovation Days 2025
LOCATION:SQUARE   Brussels
ORGANIZER;CN=admin:MAILTO:admin@openscience.cz
DTSTART;TZID=Etc/GMT+0;VALUE=DATE:20250916
DTEND;TZID=Etc/GMT+0;VALUE=DATE:20250918
X-ALT-DESC;FMTTYPE=TEXT/HTML:<p>Pořadatel: Evropská komise</p>\n<p>Bliž
 ší informace jsou a možnost registrace jsou k dispozici na <a href="https://research-and-innovation.ec.europa.eu/events/european-research-and-in
 novation-days_en" target="_blank">webu události</a>.</p>\n
CATEGORIES:
URL;VALUE=URI:https://openscience.cz/mc-events/european-research-innovation
 -days-2025/?mc_id=120
END:VEVENT
END:VCALENDAR