BEGIN:VCALENDAR
VERSION:2.0
PRODID:spatie/icalendar-generator
DESCRIPTION:Events from Národní platforma Open Science
X-WR-CALDESC:Events from Národní platforma Open Science
REFRESH-INTERVAL;VALUE=DURATION:PT1440M
X-PUBLISHED-TTL:PT1440M
BEGIN:VTIMEZONE
TZID:Etc/GMT+0
BEGIN:STANDARD
DTSTART:20250522T000000Z
TZOFFSETFROM:+0000
TZOFFSETTO:+0000
END:STANDARD
END:VTIMEZONE
BEGIN:VTIMEZONE
TZID:UTC
BEGIN:STANDARD
DTSTART:20250723T165926Z
TZOFFSETFROM:+0000
TZOFFSETTO:+0000
END:STANDARD
END:VTIMEZONE
BEGIN:VEVENT
UID:122-121
DTSTAMP:20260419T165926Z
SUMMARY:International Digital Curation Conference
LOCATION:
ORGANIZER;CN=admin:MAILTO:admin@openscience.cz
DTSTART;TZID=Etc/GMT+0;VALUE=DATE:20260216
DTEND;TZID=Etc/GMT+0;VALUE=DATE:20260219
X-ALT-DESC;FMTTYPE=TEXT/HTML:<p>20. ročník Mezinárodní konference digit
 álního kurátorství – International Digital Curation Conference (IDCC
 26)</p>\n<p>Místo konání: Záhřeb\, Chorvatsko</p>\n<p>Bližší infor
 mace jsou k dispozici na <a href="https://dcc.ac.uk/events/idcc26">webu konference</a>.</p>\n
CATEGORIES:
URL;VALUE=URI:https://openscience.cz/mc-events/international-digital-curati
 on-conference/?mc_id=122
END:VEVENT
END:VCALENDAR