BEGIN:VCALENDAR
VERSION:2.0
PRODID:spatie/icalendar-generator
DESCRIPTION:Events from Národní platforma Open Science
X-WR-CALDESC:Events from Národní platforma Open Science
REFRESH-INTERVAL;VALUE=DURATION:PT1440M
X-PUBLISHED-TTL:PT1440M
BEGIN:VTIMEZONE
TZID:Etc/GMT+0
BEGIN:STANDARD
DTSTART:20241228T000000Z
TZOFFSETFROM:+0000
TZOFFSETTO:+0000
END:STANDARD
END:VTIMEZONE
BEGIN:VTIMEZONE
TZID:UTC
BEGIN:STANDARD
DTSTART:20250723T193934Z
TZOFFSETFROM:+0000
TZOFFSETTO:+0000
END:STANDARD
END:VTIMEZONE
BEGIN:VEVENT
UID:130-129
DTSTAMP:20260419T193934Z
SUMMARY:RDA Europe Train-the-Trainer Workshop on Research Data Management
LOCATION:
ORGANIZER;CN=admin:MAILTO:admin@openscience.cz
DTSTART;TZID=Etc/GMT+0;VALUE=DATE:20250924
DTEND;TZID=Etc/GMT+0;VALUE=DATE:20250925
X-ALT-DESC;FMTTYPE=TEXT/HTML:<p>Bližší informace a možnost registrace j
 sou k dispozici na <a href="https://www.eventbrite.be/e/rda-europe-train-
 the-trainer-workshop-on-research-data-management-tickets-1436201781189">webu workshopu</a>.</p>\n
CATEGORIES:
URL;VALUE=URI:https://openscience.cz/mc-events/rda-europe-train-the-trainer
 -workshop-on-research-data-management/?mc_id=130
END:VEVENT
END:VCALENDAR