BEGIN:VCALENDAR
VERSION:2.0
PRODID:spatie/icalendar-generator
DESCRIPTION:Events from Národní platforma Open Science
X-WR-CALDESC:Events from Národní platforma Open Science
REFRESH-INTERVAL;VALUE=DURATION:PT1440M
X-PUBLISHED-TTL:PT1440M
BEGIN:VTIMEZONE
TZID:Etc/GMT+0
BEGIN:STANDARD
DTSTART:20250103T000000Z
TZOFFSETFROM:+0000
TZOFFSETTO:+0000
END:STANDARD
END:VTIMEZONE
BEGIN:VTIMEZONE
TZID:UTC
BEGIN:STANDARD
DTSTART:20250723T193245Z
TZOFFSETFROM:+0000
TZOFFSETTO:+0000
END:STANDARD
END:VTIMEZONE
BEGIN:VEVENT
UID:136-135
DTSTAMP:20260419T193245Z
SUMMARY:Publishing Open Access Books – Insights from ERC-Funded Authors
LOCATION:
ORGANIZER;CN=admin:MAILTO:admin@openscience.cz
DTSTART;TZID=Etc/GMT+0;VALUE=DATE:20250930
DTEND;TZID=Etc/GMT+0;VALUE=DATE:20251001
X-ALT-DESC;FMTTYPE=TEXT/HTML:<p>Bližší informace a možnost registrace j
 sou k dispozici na <a href="https://univ-amu-fr.zoom.us/meeting/register/
 3UqEuu0RSt6UFIoYromyZA#/registration" target="_blank">webu události</a>.</p>\n
CATEGORIES:
URL;VALUE=URI:https://openscience.cz/mc-events/publishing-open-access-books
 -insights-from-erc-funded-authors/?mc_id=136
END:VEVENT
END:VCALENDAR