BEGIN:VCALENDAR
VERSION:2.0
PRODID:spatie/icalendar-generator
DESCRIPTION:Events from Národní platforma Open Science
X-WR-CALDESC:Events from Národní platforma Open Science
REFRESH-INTERVAL;VALUE=DURATION:PT1440M
X-PUBLISHED-TTL:PT1440M
BEGIN:VTIMEZONE
TZID:Etc/GMT+0
BEGIN:STANDARD
DTSTART:20250105T000000Z
TZOFFSETFROM:+0000
TZOFFSETTO:+0000
END:STANDARD
END:VTIMEZONE
BEGIN:VTIMEZONE
TZID:UTC
BEGIN:STANDARD
DTSTART:20250723T193419Z
TZOFFSETFROM:+0000
TZOFFSETTO:+0000
END:STANDARD
END:VTIMEZONE
BEGIN:VEVENT
UID:139-138
DTSTAMP:20260419T193419Z
SUMMARY:Seminář výkonného počítání MetaCentrum 2025
LOCATION:
ORGANIZER;CN=admin:MAILTO:admin@openscience.cz
DTSTART;TZID=Etc/GMT+0;VALUE=DATE:20251002
DTEND;TZID=Etc/GMT+0;VALUE=DATE:20251003
X-ALT-DESC;FMTTYPE=TEXT/HTML:<p>Místo: Klub Lávka\, Novotného lávka 1\,
  Praha</p>\n<p>Možnost zúčastnit se také online</p>\n<p>Bližší info
 rmace jsou k dispozici na <a href="https://metavo.metacentrum.cz/cs/semin
 ars/Seminar2025/index.html" target="_blank">webu události</a>.</p>\n
CATEGORIES:
URL;VALUE=URI:https://openscience.cz/mc-events/seminar-vykonneho-pocitani-m
 etacentrum-2025/?mc_id=139
END:VEVENT
END:VCALENDAR