BEGIN:VCALENDAR
VERSION:2.0
PRODID:spatie/icalendar-generator
DESCRIPTION:Events from Národní platforma Open Science
X-WR-CALDESC:Events from Národní platforma Open Science
REFRESH-INTERVAL;VALUE=DURATION:PT1440M
X-PUBLISHED-TTL:PT1440M
BEGIN:VTIMEZONE
TZID:Etc/GMT+0
BEGIN:STANDARD
DTSTART:20250313T000000Z
TZOFFSETFROM:+0000
TZOFFSETTO:+0000
END:STANDARD
END:VTIMEZONE
BEGIN:VTIMEZONE
TZID:UTC
BEGIN:STANDARD
DTSTART:20250723T171858Z
TZOFFSETFROM:+0000
TZOFFSETTO:+0000
END:STANDARD
END:VTIMEZONE
BEGIN:VEVENT
UID:147-146
DTSTAMP:20260419T171858Z
SUMMARY:How to publish your data – Zenodo and other repositories
LOCATION:
ORGANIZER;CN=admin:MAILTO:admin@openscience.cz
DTSTART;TZID=Etc/GMT+0;VALUE=DATE:20251208
DTEND;TZID=Etc/GMT+0;VALUE=DATE:20251209
X-ALT-DESC;FMTTYPE=TEXT/HTML:<p>Workshop zdarma</p>\n<p>Pořadatel: Národn
 í technická knihovna</p>\n<p>Bližší informace a možnost registrace j
 sou k dispozici na <a href="https://www.techlib.cz/en/85185-zenodo">webu události</a>.</p>\n
CATEGORIES:
URL;VALUE=URI:https://openscience.cz/mc-events/how-to-publish-your-data-zen
 odo-and-other-repositories/?mc_id=147
END:VEVENT
END:VCALENDAR