BEGIN:VCALENDAR
VERSION:2.0
PRODID:spatie/icalendar-generator
DESCRIPTION:Events from Národní platforma Open Science
X-WR-CALDESC:Events from Národní platforma Open Science
REFRESH-INTERVAL;VALUE=DURATION:PT1440M
X-PUBLISHED-TTL:PT1440M
BEGIN:VTIMEZONE
TZID:Etc/GMT+0
BEGIN:STANDARD
DTSTART:20250202T000000Z
TZOFFSETFROM:+0000
TZOFFSETTO:+0000
END:STANDARD
END:VTIMEZONE
BEGIN:VTIMEZONE
TZID:UTC
BEGIN:STANDARD
DTSTART:20250723T124424Z
TZOFFSETFROM:+0000
TZOFFSETTO:+0000
END:STANDARD
END:VTIMEZONE
BEGIN:VEVENT
UID:149-148
DTSTAMP:20260419T124424Z
SUMMARY:Central European Open Source Policy Forum 2025
LOCATION:
ORGANIZER;CN=admin:MAILTO:admin@openscience.cz
DTSTART;TZID=Etc/GMT+0;VALUE=DATE:20251030
DTEND;TZID=Etc/GMT+0;VALUE=DATE:20251101
X-ALT-DESC;FMTTYPE=TEXT/HTML:<p>Místo konání: Brno</p>\n<p>Bližší inf
 ormace a možnost registrace jsou k dispozici na webu <a href="https://ot
 evrenamesta.cz/events/5" target="_blank">Otevřená města</a>.</p>\n
CATEGORIES:
URL;VALUE=URI:https://openscience.cz/mc-events/central-european-open-source
 -policy-forum-2025/?mc_id=149
END:VEVENT
END:VCALENDAR