BEGIN:VCALENDAR
VERSION:2.0
PRODID:spatie/icalendar-generator
DESCRIPTION:Events from Národní platforma Open Science
X-WR-CALDESC:Events from Národní platforma Open Science
REFRESH-INTERVAL;VALUE=DURATION:PT1440M
X-PUBLISHED-TTL:PT1440M
BEGIN:VTIMEZONE
TZID:Etc/GMT+0
BEGIN:STANDARD
DTSTART:20250321T000000Z
TZOFFSETFROM:+0000
TZOFFSETTO:+0000
END:STANDARD
END:VTIMEZONE
BEGIN:VTIMEZONE
TZID:UTC
BEGIN:STANDARD
DTSTART:20250723T172153Z
TZOFFSETFROM:+0000
TZOFFSETTO:+0000
END:STANDARD
END:VTIMEZONE
BEGIN:VEVENT
UID:159-158
DTSTAMP:20260419T172153Z
SUMMARY:Navigating the future of scholarly communication\, Open Science and
  AI
LOCATION:
ORGANIZER;CN=admin:MAILTO:admin@openscience.cz
DTSTART;TZID=Etc/GMT+0;VALUE=DATE:20251216
DTEND;TZID=Etc/GMT+0;VALUE=DATE:20251217
X-ALT-DESC;FMTTYPE=TEXT/HTML:<p>Pořadatel: European University Association
  (EUA)</p>\n<p>Bližší informace a možnost registrace jsou k dispozici 
 na <a href="https://www.eua.eu/events/eua-events/navigating-the-future-of
 -scholarly-communication-open-science-and-ai.html" target="_blank">str
 ánce webináře</a>.</p>\n
CATEGORIES:
URL;VALUE=URI:https://openscience.cz/mc-events/navigating-the-future-of-sch
 olarly-communication-open-science-and-ai/?mc_id=159
END:VEVENT
END:VCALENDAR