BEGIN:VCALENDAR
VERSION:2.0
PRODID:spatie/icalendar-generator
DESCRIPTION:Events from Národní platforma Open Science
X-WR-CALDESC:Events from Národní platforma Open Science
REFRESH-INTERVAL;VALUE=DURATION:PT1440M
X-PUBLISHED-TTL:PT1440M
BEGIN:VTIMEZONE
TZID:Etc/GMT+0
BEGIN:STANDARD
DTSTART:20260130T000000Z
TZOFFSETFROM:+0000
TZOFFSETTO:+0000
END:STANDARD
END:VTIMEZONE
BEGIN:VTIMEZONE
TZID:UTC
BEGIN:STANDARD
DTSTART:20250723T170043Z
TZOFFSETFROM:+0000
TZOFFSETTO:+0000
END:STANDARD
END:VTIMEZONE
BEGIN:VEVENT
UID:161-160
DTSTAMP:20260419T170043Z
SUMMARY:PIDfest
LOCATION:
ORGANIZER;CN=admin:MAILTO:admin@openscience.cz
DTSTART;TZID=Etc/GMT+0:20261027T000000
DTEND;TZID=Etc/GMT+0:20261029T010000
X-ALT-DESC;FMTTYPE=TEXT/HTML:<p>Pořadatel: <a href="https://www.surf.nl/e
 n" target="_blank">SURF</a></p>\n<p>Místo konání: Nizozemské centru
 m pro biodiverzitu Naturalis v Leidenu</p>\n<p>Bližší informace jsou k 
 dispozici na <a href="https://www.pidfest.org/" target="_blank">webu u
 dálosti</a>.</p>\n
CATEGORIES:
URL;VALUE=URI:https://openscience.cz/mc-events/pidfest-2/?mc_id=161
END:VEVENT
END:VCALENDAR