BEGIN:VCALENDAR
VERSION:2.0
PRODID:spatie/icalendar-generator
DESCRIPTION:Events from Národní platforma Open Science
X-WR-CALDESC:Events from Národní platforma Open Science
REFRESH-INTERVAL;VALUE=DURATION:PT1440M
X-PUBLISHED-TTL:PT1440M
BEGIN:VTIMEZONE
TZID:Etc/GMT+0
BEGIN:STANDARD
DTSTART:20250315T000000Z
TZOFFSETFROM:+0000
TZOFFSETTO:+0000
END:STANDARD
END:VTIMEZONE
BEGIN:VTIMEZONE
TZID:UTC
BEGIN:STANDARD
DTSTART:20250723T153940Z
TZOFFSETFROM:+0000
TZOFFSETTO:+0000
END:STANDARD
END:VTIMEZONE
BEGIN:VEVENT
UID:162-161
DTSTAMP:20260419T153940Z
SUMMARY:Adapting the FAIR-enabling data policy checklist for repositories
LOCATION:
ORGANIZER;CN=admin:MAILTO:admin@openscience.cz
DTSTART;TZID=Etc/GMT+0;VALUE=DATE:20251210
DTEND;TZID=Etc/GMT+0;VALUE=DATE:20251211
X-ALT-DESC;FMTTYPE=TEXT/HTML:<p>Bližší informace a možnost registrace j
 sou k dispozici na <a href="https://eden-fidelis.eu/events/adapting-fair-
 enabling-data-policy-checklist-repositories-workshop" target="_blank">s
 tránce workshopu</a>.</p>\n
CATEGORIES:
URL;VALUE=URI:https://openscience.cz/mc-events/adapting-the-fair-enabling-d
 ata-policy-checklist-for-repositories/?mc_id=162
END:VEVENT
END:VCALENDAR