BEGIN:VCALENDAR
VERSION:2.0
PRODID:spatie/icalendar-generator
DESCRIPTION:Events from Národní platforma Open Science
X-WR-CALDESC:Events from Národní platforma Open Science
REFRESH-INTERVAL;VALUE=DURATION:PT1440M
X-PUBLISHED-TTL:PT1440M
BEGIN:VTIMEZONE
TZID:Etc/GMT+0
BEGIN:STANDARD
DTSTART:20250601T000000Z
TZOFFSETFROM:+0000
TZOFFSETTO:+0000
END:STANDARD
END:VTIMEZONE
BEGIN:VTIMEZONE
TZID:UTC
BEGIN:STANDARD
DTSTART:20250723T150828Z
TZOFFSETFROM:+0000
TZOFFSETTO:+0000
END:STANDARD
END:VTIMEZONE
BEGIN:VEVENT
UID:165-164
DTSTAMP:20260419T150828Z
SUMMARY:What next for community-led open access book publishing?
LOCATION:
ORGANIZER;CN=admin:MAILTO:admin@openscience.cz
DTSTART;TZID=Etc/GMT+0:20260226T000000
DTEND;TZID=Etc/GMT+0:20260227T010000
X-ALT-DESC;FMTTYPE=TEXT/HTML:<p>Místo konání: Loughborough University Lo
 ndon nebo online</p>\n<p>Bližší informace a možnost registrace jsou k 
 dispozici na <a href="https://www.eventbrite.co.uk/e/what-next-for-commun
 ity-led-open-access-book-publishing-tickets-1753736566279" target="_blan
 k">webové stránce události</a>.</p>\n
CATEGORIES:
URL;VALUE=URI:https://openscience.cz/mc-events/what-next-for-community-led-
 open-access-book-publishing/?mc_id=165
END:VEVENT
END:VCALENDAR