BEGIN:VCALENDAR
VERSION:2.0
PRODID:spatie/icalendar-generator
DESCRIPTION:Events from Národní platforma Open Science
X-WR-CALDESC:Events from Národní platforma Open Science
REFRESH-INTERVAL;VALUE=DURATION:PT1440M
X-PUBLISHED-TTL:PT1440M
BEGIN:VTIMEZONE
TZID:Etc/GMT+0
BEGIN:STANDARD
DTSTART:20250516T000000Z
TZOFFSETFROM:+0000
TZOFFSETTO:+0000
END:STANDARD
END:VTIMEZONE
BEGIN:VTIMEZONE
TZID:UTC
BEGIN:STANDARD
DTSTART:20250723T165952Z
TZOFFSETFROM:+0000
TZOFFSETTO:+0000
END:STANDARD
END:VTIMEZONE
BEGIN:VEVENT
UID:167-166
DTSTAMP:20260419T165952Z
SUMMARY:OP JAK Seminář pro příjemce – Výzva č. 02_24_030 Open Scien
 ce II
LOCATION:
ORGANIZER;CN=admin:MAILTO:admin@openscience.cz
DTSTART;TZID=Etc/GMT+0;VALUE=DATE:20260210
DTEND;TZID=Etc/GMT+0;VALUE=DATE:20260211
X-ALT-DESC;FMTTYPE=TEXT/HTML:<p>Seminář je určen pro úspěšné žadate
 le a příjemce finanční podpory z OP JAK výzvy č. 02_24_030 Open Scie
 nce II.</p>\n<p>Bližší informace a možnost registrace jsou k dispozici
  na <a href="https://opjak.cz/events/prezencni-seminar-pro-prijemce-vyzva
 -c-02_24_030-open-science-ii/" target="_blank">webové stránce seminá
 ře</a>.</p>\n<p>Záznam semináře a prezentace jsou k nalezení <a href="https://opjak.cz/aktuality/zverejneni-zaznamu-z-prezencniho-seminare-pro
 -prijemce-dotace-vyzvy-open-science-ii/" target="_blank">zde</a>.</p>\n
CATEGORIES:
URL;VALUE=URI:https://openscience.cz/mc-events/op-jak-seminar-pro-prijemce-
 vyzva-c-02_24_030-open-science-ii/?mc_id=167
END:VEVENT
END:VCALENDAR