BEGIN:VCALENDAR
VERSION:2.0
PRODID:spatie/icalendar-generator
DESCRIPTION:Events from Národní platforma Open Science
X-WR-CALDESC:Events from Národní platforma Open Science
REFRESH-INTERVAL;VALUE=DURATION:PT1440M
X-PUBLISHED-TTL:PT1440M
BEGIN:VTIMEZONE
TZID:Etc/GMT+0
BEGIN:STANDARD
DTSTART:20250518T000000Z
TZOFFSETFROM:+0000
TZOFFSETTO:+0000
END:STANDARD
END:VTIMEZONE
BEGIN:VTIMEZONE
TZID:UTC
BEGIN:STANDARD
DTSTART:20250723T151036Z
TZOFFSETFROM:+0000
TZOFFSETTO:+0000
END:STANDARD
END:VTIMEZONE
BEGIN:VEVENT
UID:168-167
DTSTAMP:20260419T151036Z
SUMMARY:OP JAK Seminář pro příjemce – Plnění postupů otevřené v
 ědy v kontextu nových metodických dopisů
LOCATION:
ORGANIZER;CN=admin:MAILTO:admin@openscience.cz
DTSTART;TZID=Etc/GMT+0;VALUE=DATE:20260212
DTEND;TZID=Etc/GMT+0;VALUE=DATE:20260213
X-ALT-DESC;FMTTYPE=TEXT/HTML:<p>Bližší informace a možnost registrace j
 sou k dispozici na <a href="https://opjak.cz/events/distancni-seminar-pro
 -prijemce-plneni-postupu-otevrene-vedy-v-kontextu-novych-metodickych-dopis
 u/" target="_blank">webové stránce semináře</a>.</p>\n
CATEGORIES:
URL;VALUE=URI:https://openscience.cz/mc-events/op-jak-seminar-pro-prijemce-
 plneni-postupu-otevrene-vedy-v-kontextu-novych-metodickych-dopisu/?mc_id=1
 68
END:VEVENT
END:VCALENDAR