BEGIN:VCALENDAR
VERSION:2.0
PRODID:spatie/icalendar-generator
DESCRIPTION:Events from Národní platforma Open Science
X-WR-CALDESC:Events from Národní platforma Open Science
REFRESH-INTERVAL;VALUE=DURATION:PT1440M
X-PUBLISHED-TTL:PT1440M
BEGIN:VTIMEZONE
TZID:Etc/GMT+0
BEGIN:STANDARD
DTSTART:20250508T000000Z
TZOFFSETFROM:+0000
TZOFFSETTO:+0000
END:STANDARD
END:VTIMEZONE
BEGIN:VTIMEZONE
TZID:UTC
BEGIN:STANDARD
DTSTART:20250723T200248Z
TZOFFSETFROM:+0000
TZOFFSETTO:+0000
END:STANDARD
END:VTIMEZONE
BEGIN:VEVENT
UID:169-168
DTSTAMP:20260419T200248Z
SUMMARY:3rd Global Summit on Diamond Open Access
LOCATION:
ORGANIZER;CN=admin:MAILTO:admin@openscience.cz
DTSTART;TZID=Etc/GMT+0;VALUE=DATE:20260202
DTEND;TZID=Etc/GMT+0;VALUE=DATE:20260207
X-ALT-DESC;FMTTYPE=TEXT/HTML:<p>Místo konání: Bengalúru\, Karnátaka\, 
 Indie</p>\n<p>Bližší informace jsou k dispozici na <a href="https://ww
 w.diamondoasummit.org/" target="_blank">webové stránce události</a>.
 </p>\n
CATEGORIES:
URL;VALUE=URI:https://openscience.cz/mc-events/3rd-global-summit-on-diamond
 -open-access/?mc_id=169
END:VEVENT
END:VCALENDAR