BEGIN:VCALENDAR
VERSION:2.0
PRODID:spatie/icalendar-generator
DESCRIPTION:Events from Národní platforma Open Science
X-WR-CALDESC:Events from Národní platforma Open Science
REFRESH-INTERVAL;VALUE=DURATION:PT1440M
X-PUBLISHED-TTL:PT1440M
BEGIN:VTIMEZONE
TZID:Etc/GMT+0
BEGIN:STANDARD
DTSTART:20250726T000000Z
TZOFFSETFROM:+0000
TZOFFSETTO:+0000
END:STANDARD
END:VTIMEZONE
BEGIN:VTIMEZONE
TZID:UTC
BEGIN:STANDARD
DTSTART:20250724T011843Z
TZOFFSETFROM:+0000
TZOFFSETTO:+0000
END:STANDARD
END:VTIMEZONE
BEGIN:VEVENT
UID:172-171
DTSTAMP:20260420T011843Z
SUMMARY:Dataset preparation and publishing – Zenodo and other repositorie
 s
LOCATION:
ORGANIZER;CN=admin:MAILTO:admin@openscience.cz
DTSTART;TZID=Etc/GMT+0;VALUE=DATE:20260422
DTEND;TZID=Etc/GMT+0;VALUE=DATE:20260423
X-ALT-DESC;FMTTYPE=TEXT/HTML:<p>Webinář zdarma\, bez nutnosti registrace</p>\n<p>Pořadatel: Národní technická knihovna</p>\n<p>Bližší inform
 ace jsou k dispozici na <a href="https://www.techlib.cz/en/85228-dataset-
 preparation-and-publishing-%E2%80%93-zenodo-and-other-repositories">webové stránce webináře</a>.</p>\n
CATEGORIES:
URL;VALUE=URI:https://openscience.cz/mc-events/dataset-preparation-and-publ
 ishing-zenodo-and-other-repositories/?mc_id=172
END:VEVENT
END:VCALENDAR