BEGIN:VCALENDAR
VERSION:2.0
PRODID:spatie/icalendar-generator
DESCRIPTION:Events from Národní platforma Open Science
X-WR-CALDESC:Events from Národní platforma Open Science
REFRESH-INTERVAL;VALUE=DURATION:PT1440M
X-PUBLISHED-TTL:PT1440M
BEGIN:VTIMEZONE
TZID:Etc/GMT+0
BEGIN:STANDARD
DTSTART:20250712T000000Z
TZOFFSETFROM:+0000
TZOFFSETTO:+0000
END:STANDARD
END:VTIMEZONE
BEGIN:VTIMEZONE
TZID:UTC
BEGIN:STANDARD
DTSTART:20250724T025748Z
TZOFFSETFROM:+0000
TZOFFSETTO:+0000
END:STANDARD
END:VTIMEZONE
BEGIN:VEVENT
UID:173-172
DTSTAMP:20260420T025748Z
SUMMARY:Introduction to Research Data Management
LOCATION:
ORGANIZER;CN=admin:MAILTO:admin@openscience.cz
DTSTART;TZID=Etc/GMT+0;VALUE=DATE:20260408
DTEND;TZID=Etc/GMT+0;VALUE=DATE:20260409
X-ALT-DESC;FMTTYPE=TEXT/HTML:<p>Webinář zdarma\, bez nutnosti registrace</p>\n<p>Pořadatel: Národní technická knihovna</p>\n<p>Bližší inform
 ace jsou k dispozici na <a href="https://www.techlib.cz/en/84861-introduc
 tion-to-research-data-management" target="_blank">webové stránce webi
 náře</a>.</p>\n
CATEGORIES:
URL;VALUE=URI:https://openscience.cz/mc-events/introduction-to-research-dat
 a-management-2/?mc_id=173
END:VEVENT
END:VCALENDAR