BEGIN:VCALENDAR
VERSION:2.0
PRODID:spatie/icalendar-generator
DESCRIPTION:Events from Národní platforma Open Science
X-WR-CALDESC:Events from Národní platforma Open Science
REFRESH-INTERVAL;VALUE=DURATION:PT1440M
X-PUBLISHED-TTL:PT1440M
BEGIN:VTIMEZONE
TZID:Etc/GMT+0
BEGIN:STANDARD
DTSTART:20250612T000000Z
TZOFFSETFROM:+0000
TZOFFSETTO:+0000
END:STANDARD
END:VTIMEZONE
BEGIN:VTIMEZONE
TZID:UTC
BEGIN:STANDARD
DTSTART:20250723T150932Z
TZOFFSETFROM:+0000
TZOFFSETTO:+0000
END:STANDARD
END:VTIMEZONE
BEGIN:VEVENT
UID:177-176
DTSTAMP:20260419T150932Z
SUMMARY:From deals to cost distribution – How libraries share and manage 
 the costs of national-level (transformative) open access publishing agreem
 ents
LOCATION:
ORGANIZER;CN=admin:MAILTO:admin@openscience.cz
DTSTART;TZID=Etc/GMT+0;VALUE=DATE:20260309
DTEND;TZID=Etc/GMT+0;VALUE=DATE:20260310
X-ALT-DESC;FMTTYPE=TEXT/HTML:<p>Pořadatel: LIBER</p>\n<p>Bližší informa
 ce a možnost registrace jsou k dispozici na <a href="https://libereurope
 .eu/event/webinar-from-deals-to-cost-distribution-how-libraries-share-and-
 manage-the-costs-of-national-level-transformative-open-access-publishing-a
 greements/" target="_blank">webové stránce webináře</a>.</p>\n
CATEGORIES:
URL;VALUE=URI:https://openscience.cz/mc-events/from-deals-to-cost-distribut
 ion-how-libraries-share-and-manage-the-costs-of-national-level-transformat
 ive-open-access-publishing-agreements/?mc_id=177
END:VEVENT
END:VCALENDAR