BEGIN:VCALENDAR
VERSION:2.0
PRODID:spatie/icalendar-generator
DESCRIPTION:Events from Národní platforma Open Science
X-WR-CALDESC:Events from Národní platforma Open Science
REFRESH-INTERVAL;VALUE=DURATION:PT1440M
X-PUBLISHED-TTL:PT1440M
BEGIN:VTIMEZONE
TZID:Etc/GMT+0
BEGIN:STANDARD
DTSTART:20250606T000000Z
TZOFFSETFROM:+0000
TZOFFSETTO:+0000
END:STANDARD
END:VTIMEZONE
BEGIN:VTIMEZONE
TZID:UTC
BEGIN:STANDARD
DTSTART:20250723T150901Z
TZOFFSETFROM:+0000
TZOFFSETTO:+0000
END:STANDARD
END:VTIMEZONE
BEGIN:VEVENT
UID:182-63
DTSTAMP:20260419T150901Z
SUMMARY:ECSA 2026 Conference – Citizen Science between Centre and Periphe
 ry
LOCATION:
ORGANIZER;CN=admin:MAILTO:admin@openscience.cz
DTSTART;TZID=Etc/GMT+0;VALUE=DATE:20260303
DTEND;TZID=Etc/GMT+0;VALUE=DATE:20260307
X-ALT-DESC;FMTTYPE=TEXT/HTML:<p>Místo konání: Oulu (Finsko)</p>\n<p>Poř
 adatel: ESCA</p>\n<p>Bližší informace naleznete na <a href="https://ww
 w.ecsa2026.ngo/" target="_blank">webu konference</a>.</p>\n
CATEGORIES:
URL;VALUE=URI:https://openscience.cz/mc-events/ecsa-2026-conference-citizen
 -science-between-centre-and-periphery/?mc_id=182
END:VEVENT
END:VCALENDAR