BEGIN:VCALENDAR
VERSION:2.0
PRODID:spatie/icalendar-generator
DESCRIPTION:Events from Národní platforma Open Science
X-WR-CALDESC:Events from Národní platforma Open Science
REFRESH-INTERVAL;VALUE=DURATION:PT1440M
X-PUBLISHED-TTL:PT1440M
BEGIN:VTIMEZONE
TZID:Etc/GMT+0
BEGIN:STANDARD
DTSTART:20250622T000000Z
TZOFFSETFROM:+0000
TZOFFSETTO:+0000
END:STANDARD
END:VTIMEZONE
BEGIN:VTIMEZONE
TZID:UTC
BEGIN:STANDARD
DTSTART:20250723T134634Z
TZOFFSETFROM:+0000
TZOFFSETTO:+0000
END:STANDARD
END:VTIMEZONE
BEGIN:VEVENT
UID:183-181
DTSTAMP:20260419T134634Z
SUMMARY:Prepare your team for effective data management (plans) II
LOCATION:
ORGANIZER;CN=admin:MAILTO:admin@openscience.cz
DTSTART;TZID=Etc/GMT+0;VALUE=DATE:20260319
DTEND;TZID=Etc/GMT+0;VALUE=DATE:20260320
X-ALT-DESC;FMTTYPE=TEXT/HTML:<p>Pořadatel: EOSC CZ</p>\n<p>Bližší infor
 mace a možnost registrace jsou k dispozici na <a href="https://www.eosc.
 cz/novinky-a-akce/kalendar-akci/prepare-your-team-for-effective-data-manag
 ement-plans-ii" target="_blank">webové stránce webináře</a>.</p>\n
CATEGORIES:
URL;VALUE=URI:https://openscience.cz/mc-events/prepare-your-team-for-effect
 ive-data-management-plans-ii/?mc_id=183
END:VEVENT
END:VCALENDAR