BEGIN:VCALENDAR
VERSION:2.0
PRODID:spatie/icalendar-generator
DESCRIPTION:Events from Národní platforma Open Science
X-WR-CALDESC:Events from Národní platforma Open Science
REFRESH-INTERVAL;VALUE=DURATION:PT1440M
X-PUBLISHED-TTL:PT1440M
BEGIN:VTIMEZONE
TZID:Etc/GMT+0
BEGIN:STANDARD
DTSTART:20250608T000000Z
TZOFFSETFROM:+0000
TZOFFSETTO:+0000
END:STANDARD
END:VTIMEZONE
BEGIN:VTIMEZONE
TZID:UTC
BEGIN:STANDARD
DTSTART:20250723T165951Z
TZOFFSETFROM:+0000
TZOFFSETTO:+0000
END:STANDARD
END:VTIMEZONE
BEGIN:VEVENT
UID:186-184
DTSTAMP:20260419T165951Z
SUMMARY:Open Education Café
LOCATION:
ORGANIZER;CN=admin:MAILTO:admin@openscience.cz
DTSTART;TZID=Etc/GMT+0;VALUE=DATE:20260305
DTEND;TZID=Etc/GMT+0;VALUE=DATE:20260306
X-ALT-DESC;FMTTYPE=TEXT/HTML:<p>Pořadatelé: SPARC Europe\, European Netwo
 rk of Open Education Librarians (ENOEL) a UNESCO</p>\n<p>Bližší informa
 ce a možnost registrace jsou k dispozici na <a href="https://us02web.zoo
 m.us/meeting/register/_kpLXsI9SkWx5zowuY6UqQ#/registration" target="_bla
 nk">webové stránce události</a>.</p>\n
CATEGORIES:
URL;VALUE=URI:https://openscience.cz/mc-events/open-education-cafe/?mc_id=1
 86
END:VEVENT
END:VCALENDAR