BEGIN:VCALENDAR
VERSION:2.0
PRODID:spatie/icalendar-generator
DESCRIPTION:Events from Národní platforma Open Science
X-WR-CALDESC:Events from Národní platforma Open Science
REFRESH-INTERVAL;VALUE=DURATION:PT1440M
X-PUBLISHED-TTL:PT1440M
BEGIN:VTIMEZONE
TZID:Etc/GMT+0
BEGIN:STANDARD
DTSTART:20250812T000000Z
TZOFFSETFROM:+0000
TZOFFSETTO:+0000
END:STANDARD
END:VTIMEZONE
BEGIN:VTIMEZONE
TZID:UTC
BEGIN:STANDARD
DTSTART:20250723T221434Z
TZOFFSETFROM:+0000
TZOFFSETTO:+0000
END:STANDARD
END:VTIMEZONE
BEGIN:VEVENT
UID:190-188
DTSTAMP:20260419T221434Z
SUMMARY:Setkání občanské vědy na Maker Faire
LOCATION:
ORGANIZER;CN=admin:MAILTO:admin@openscience.cz
DTSTART;TZID=Etc/GMT+0;VALUE=DATE:20260509
DTEND;TZID=Etc/GMT+0;VALUE=DATE:20260511
X-ALT-DESC;FMTTYPE=TEXT/HTML:<p>V rámci festivalu <a href="https://makerf
 aire.cz/" target="_blank">Maker Faire</a> je připravován samostatný 
 programový blok zaměřený na občanskou vědu.</p>\n<p>Místo konání:
  Výstaviště v Křižíkových pavilonech\, Praha</p>\n<p>Bližší info
 rmace jsou k dispozici na <a href="https://www.citizenscience.cz/setkani-
 obcanske-vedy-na-maker-faire-v-praze/" target="_blank">webové stránce
  události</a>.</p>\n
CATEGORIES:
URL;VALUE=URI:https://openscience.cz/mc-events/setkani-obcanske-vedy-na-mak
 er-faire/?mc_id=190
END:VEVENT
END:VCALENDAR