BEGIN:VCALENDAR
VERSION:2.0
PRODID:spatie/icalendar-generator
DESCRIPTION:Events from Národní platforma Open Science
X-WR-CALDESC:Events from Národní platforma Open Science
REFRESH-INTERVAL;VALUE=DURATION:PT1440M
X-PUBLISHED-TTL:PT1440M
BEGIN:VTIMEZONE
TZID:Etc/GMT+0
BEGIN:STANDARD
DTSTART:20250627T000000Z
TZOFFSETFROM:+0000
TZOFFSETTO:+0000
END:STANDARD
END:VTIMEZONE
BEGIN:VTIMEZONE
TZID:UTC
BEGIN:STANDARD
DTSTART:20250723T132649Z
TZOFFSETFROM:+0000
TZOFFSETTO:+0000
END:STANDARD
END:VTIMEZONE
BEGIN:VEVENT
UID:196-194
DTSTAMP:20260419T132649Z
SUMMARY:Právní aspekty výzkumných dat z institucionálního hlediska
LOCATION:
ORGANIZER;CN=admin:MAILTO:admin@openscience.cz
DTSTART;TZID=Etc/GMT+0;VALUE=DATE:20260324
DTEND;TZID=Etc/GMT+0;VALUE=DATE:20260325
X-ALT-DESC;FMTTYPE=TEXT/HTML:<p>Pořadatel: AKVŠ</p>\n<p>Místo konání: 
 online</p>\n<p>Bližší informace a možnost registrace jsou k dispozici 
 na <a href="https://www.akvs.cz/akce/akce-2026/pravni-aspekty-dat/">webové stránce události</a>.</p>\n
CATEGORIES:
URL;VALUE=URI:https://openscience.cz/mc-events/pravni-aspekty-vyzkumnych-da
 t-z-institucionalniho-hlediska/?mc_id=196
END:VEVENT
END:VCALENDAR