BEGIN:VCALENDAR
VERSION:2.0
PRODID:spatie/icalendar-generator
DESCRIPTION:Events from Národní platforma Open Science
X-WR-CALDESC:Events from Národní platforma Open Science
REFRESH-INTERVAL;VALUE=DURATION:PT1440M
X-PUBLISHED-TTL:PT1440M
BEGIN:VTIMEZONE
TZID:Etc/GMT+0
BEGIN:STANDARD
DTSTART:20241005T000000Z
TZOFFSETFROM:+0000
TZOFFSETTO:+0000
END:STANDARD
END:VTIMEZONE
BEGIN:VTIMEZONE
TZID:UTC
BEGIN:STANDARD
DTSTART:20250723T171632Z
TZOFFSETFROM:+0000
TZOFFSETTO:+0000
END:STANDARD
END:VTIMEZONE
BEGIN:VEVENT
UID:29-29
DTSTAMP:20260419T171632Z
SUMMARY:54th LIBER Annual Conference
LOCATION:
ORGANIZER;CN=admin:MAILTO:admin@openscience.cz
DTSTART;TZID=Etc/GMT+0;VALUE=DATE:20250702
DTEND;TZID=Etc/GMT+0;VALUE=DATE:20250705
X-ALT-DESC;FMTTYPE=TEXT/HTML:<p>Bližší informace a možnost registrace n
 aleznete na <a href="https://liberconference.eu/" target="_blank">webu
  konference</a>.</p>\n
CATEGORIES:
URL;VALUE=URI:https://openscience.cz/mc-events/54th-liber-annual-conference
 /?mc_id=29
END:VEVENT
END:VCALENDAR