BEGIN:VCALENDAR
VERSION:2.0
PRODID:spatie/icalendar-generator
DESCRIPTION:Events from Národní platforma Open Science
X-WR-CALDESC:Events from Národní platforma Open Science
REFRESH-INTERVAL;VALUE=DURATION:PT1440M
X-PUBLISHED-TTL:PT1440M
BEGIN:VTIMEZONE
TZID:Etc/GMT+0
BEGIN:STANDARD
DTSTART:20250111T000000Z
TZOFFSETFROM:+0000
TZOFFSETTO:+0000
END:STANDARD
END:VTIMEZONE
BEGIN:VTIMEZONE
TZID:UTC
BEGIN:STANDARD
DTSTART:20250723T150714Z
TZOFFSETFROM:+0000
TZOFFSETTO:+0000
END:STANDARD
END:VTIMEZONE
BEGIN:VEVENT
UID:33-33
DTSTAMP:20260419T150714Z
SUMMARY:Open Science Conference 2025
LOCATION:
ORGANIZER;CN=admin:MAILTO:admin@openscience.cz
DTSTART;TZID=Etc/GMT+0;VALUE=DATE:20251008
DTEND;TZID=Etc/GMT+0;VALUE=DATE:20251010
X-ALT-DESC;FMTTYPE=TEXT/HTML:<p>Bližší informace a možnost registrace n
 aleznete na <a href="https://www.open-science-conference.eu/" target="_
 blank">webu události</a>.</p>\n
CATEGORIES:
URL;VALUE=URI:https://openscience.cz/mc-events/open-science-conference-2025
 /?mc_id=33
END:VEVENT
END:VCALENDAR