BEGIN:VCALENDAR
VERSION:2.0
PRODID:spatie/icalendar-generator
DESCRIPTION:Events from Národní platforma Open Science
X-WR-CALDESC:Events from Národní platforma Open Science
REFRESH-INTERVAL;VALUE=DURATION:PT1440M
X-PUBLISHED-TTL:PT1440M
BEGIN:VTIMEZONE
TZID:Etc/GMT+0
BEGIN:STANDARD
DTSTART:20240713T000000Z
TZOFFSETFROM:+0000
TZOFFSETTO:+0000
END:STANDARD
END:VTIMEZONE
BEGIN:VTIMEZONE
TZID:UTC
BEGIN:STANDARD
DTSTART:20250727T115833Z
TZOFFSETFROM:+0000
TZOFFSETTO:+0000
END:STANDARD
END:VTIMEZONE
BEGIN:VEVENT
UID:51-51
DTSTAMP:20260423T115833Z
SUMMARY:Den občanské vědy
LOCATION:
ORGANIZER;CN=admin:MAILTO:admin@openscience.cz
DTSTART;TZID=Etc/GMT+0;VALUE=DATE:20250409
DTEND;TZID=Etc/GMT+0;VALUE=DATE:20250410
X-ALT-DESC;FMTTYPE=TEXT/HTML:<p>Školení pro širokou veřejnost. Bližš
 í informace naleznete na <a href="https://www.eosc.cz/novinky-a-akce/kal
 endar-akci/den-obcanske-vedy" target="_blank">webu akce</a>.</p>\n
CATEGORIES:
URL;VALUE=URI:https://openscience.cz/mc-events/den-obcanske-vedy/?mc_id=51
END:VEVENT
END:VCALENDAR