BEGIN:VCALENDAR
VERSION:2.0
PRODID:spatie/icalendar-generator
DESCRIPTION:Events from Národní platforma Open Science
X-WR-CALDESC:Events from Národní platforma Open Science
REFRESH-INTERVAL;VALUE=DURATION:PT1440M
X-PUBLISHED-TTL:PT1440M
BEGIN:VTIMEZONE
TZID:Etc/GMT+0
BEGIN:STANDARD
DTSTART:20240901T000000Z
TZOFFSETFROM:+0000
TZOFFSETTO:+0000
END:STANDARD
END:VTIMEZONE
BEGIN:VTIMEZONE
TZID:UTC
BEGIN:STANDARD
DTSTART:20250724T102939Z
TZOFFSETFROM:+0000
TZOFFSETTO:+0000
END:STANDARD
END:VTIMEZONE
BEGIN:VEVENT
UID:52-52
DTSTAMP:20260420T102939Z
SUMMARY:Strategické fórum CARDS
LOCATION:NTK - Národní technická knihovna Technická 6  Praha  16000
ORGANIZER;CN=admin:MAILTO:admin@openscience.cz
DTSTART;TZID=Etc/GMT+0;VALUE=DATE:20250529
DTEND;TZID=Etc/GMT+0;VALUE=DATE:20250530
X-ALT-DESC;FMTTYPE=TEXT/HTML:<p>Možnost registrace <a href="https://www.t
 echlib.cz/cs/85054-registrace-na-strategicke-forum-29-5-2025" target="_b
 lank">zde</a>.</p>\n
CATEGORIES:
URL;VALUE=URI:https://openscience.cz/mc-events/strategicke-forum-cards/?mc_
 id=52
END:VEVENT
END:VCALENDAR