BEGIN:VCALENDAR
VERSION:2.0
PRODID:spatie/icalendar-generator
DESCRIPTION:Events from Národní platforma Open Science
X-WR-CALDESC:Events from Národní platforma Open Science
REFRESH-INTERVAL;VALUE=DURATION:PT1440M
X-PUBLISHED-TTL:PT1440M
BEGIN:VTIMEZONE
TZID:Etc/GMT+0
BEGIN:STANDARD
DTSTART:20250120T000000Z
TZOFFSETFROM:+0000
TZOFFSETTO:+0000
END:STANDARD
END:VTIMEZONE
BEGIN:VTIMEZONE
TZID:UTC
BEGIN:STANDARD
DTSTART:20250723T161712Z
TZOFFSETFROM:+0000
TZOFFSETTO:+0000
END:STANDARD
END:VTIMEZONE
BEGIN:VEVENT
UID:61-61
DTSTAMP:20260419T161712Z
SUMMARY:The 34th CODATA General Assembly
LOCATION:
ORGANIZER;CN=admin:MAILTO:admin@openscience.cz
DTSTART;TZID=Etc/GMT+0;VALUE=DATE:20251017
DTEND;TZID=Etc/GMT+0;VALUE=DATE:20251019
X-ALT-DESC;FMTTYPE=TEXT/HTML:<p>Pořadatel: CODATA</p>\n<p>Bližší inform
 ace naleznete na <a href="https://codata.org/events/general-assembly/gene
 ral-assembly-2025/" target="_blank">webu události</a>.</p>\n
CATEGORIES:
URL;VALUE=URI:https://openscience.cz/mc-events/the-34th-codata-general-asse
 mbly/?mc_id=61
END:VEVENT
END:VCALENDAR