BEGIN:VCALENDAR
VERSION:2.0
PRODID:spatie/icalendar-generator
DESCRIPTION:Events from Národní platforma Open Science
X-WR-CALDESC:Events from Národní platforma Open Science
REFRESH-INTERVAL;VALUE=DURATION:PT1440M
X-PUBLISHED-TTL:PT1440M
BEGIN:VTIMEZONE
TZID:Etc/GMT+0
BEGIN:STANDARD
DTSTART:20240711T000000Z
TZOFFSETFROM:+0000
TZOFFSETTO:+0000
END:STANDARD
END:VTIMEZONE
BEGIN:VTIMEZONE
TZID:UTC
BEGIN:STANDARD
DTSTART:20250727T153720Z
TZOFFSETFROM:+0000
TZOFFSETTO:+0000
END:STANDARD
END:VTIMEZONE
BEGIN:VEVENT
UID:65-65
DTSTAMP:20260423T153720Z
SUMMARY:RDA 24th Plenary Meeting – Data for Emerging Technologies
LOCATION:
ORGANIZER;CN=admin:MAILTO:admin@openscience.cz
DTSTART;TZID=Etc/GMT+0;VALUE=DATE:20250407
DTEND;TZID=Etc/GMT+0;VALUE=DATE:20250412
X-ALT-DESC;FMTTYPE=TEXT/HTML:<p>Online</p>\n<p>Pořadatel: RDA</p>\n<p>Bli
 žší informace naleznete na <a href="https://www.rd-alliance.org/event/
 rda-24th-plenary-meeting-fully-virtual/" target="_blank">webu události
 </a>.</p>\n
CATEGORIES:
URL;VALUE=URI:https://openscience.cz/mc-events/rda-24th-plenary-meeting-dat
 a-for-emerging-technologies/?mc_id=65
END:VEVENT
END:VCALENDAR