BEGIN:VCALENDAR
VERSION:2.0
PRODID:spatie/icalendar-generator
DESCRIPTION:Events from Národní platforma Open Science
X-WR-CALDESC:Events from Národní platforma Open Science
REFRESH-INTERVAL;VALUE=DURATION:PT1440M
X-PUBLISHED-TTL:PT1440M
BEGIN:VTIMEZONE
TZID:Etc/GMT+0
BEGIN:STANDARD
DTSTART:20240712T000000Z
TZOFFSETFROM:+0000
TZOFFSETTO:+0000
END:STANDARD
END:VTIMEZONE
BEGIN:VTIMEZONE
TZID:UTC
BEGIN:STANDARD
DTSTART:20250727T134723Z
TZOFFSETFROM:+0000
TZOFFSETTO:+0000
END:STANDARD
END:VTIMEZONE
BEGIN:VEVENT
UID:70-70
DTSTAMP:20260423T134723Z
SUMMARY:CitaKon 2025 - Workshopy
LOCATION:Vysoké učení technické Technická 12  Brno
ORGANIZER;CN=admin:MAILTO:admin@openscience.cz
DTSTART;TZID=Etc/GMT+0;VALUE=DATE:20250408
DTEND;TZID=Etc/GMT+0;VALUE=DATE:20250409
X-ALT-DESC;FMTTYPE=TEXT/HTML:<p>Bližší informace a možnost registrace n
 aleznete na <a href="https://www.citakon.cz/" target="_blank">webu akc
 e</a>.</p>\n
CATEGORIES:
URL;VALUE=URI:https://openscience.cz/mc-events/citakon-2025-workshopy/?mc_i
 d=70
END:VEVENT
END:VCALENDAR