BEGIN:VCALENDAR
VERSION:2.0
PRODID:spatie/icalendar-generator
DESCRIPTION:Events from Národní platforma Open Science
X-WR-CALDESC:Events from Národní platforma Open Science
REFRESH-INTERVAL;VALUE=DURATION:PT1440M
X-PUBLISHED-TTL:PT1440M
BEGIN:VTIMEZONE
TZID:Etc/GMT+0
BEGIN:STANDARD
DTSTART:20250221T000000Z
TZOFFSETFROM:+0000
TZOFFSETTO:+0000
END:STANDARD
END:VTIMEZONE
BEGIN:VTIMEZONE
TZID:UTC
BEGIN:STANDARD
DTSTART:20250727T103616Z
TZOFFSETFROM:+0000
TZOFFSETTO:+0000
END:STANDARD
END:VTIMEZONE
BEGIN:VEVENT
UID:77-77
DTSTAMP:20260423T103616Z
SUMMARY:Munin Conference
LOCATION:
ORGANIZER;CN=admin:MAILTO:admin@openscience.cz
DTSTART;TZID=Etc/GMT+0;VALUE=DATE:20251118
DTEND;TZID=Etc/GMT+0;VALUE=DATE:20251121
X-ALT-DESC;FMTTYPE=TEXT/HTML:<p>Každoroční konference zaměřená na vě
 decké publikování a komunikaci vědy\, jejíž primárními tématy jso
 u otevřená věda\, otevřené publikování a otevřená data.</p>\n<p>B
 ližší informace naleznete na <a href="https://site.uit.no/muninconf/" target="_blank">webu konference</a>.</p>\n
CATEGORIES:
URL;VALUE=URI:https://openscience.cz/mc-events/munin-conference/?mc_id=77
END:VEVENT
END:VCALENDAR