BEGIN:VCALENDAR
VERSION:2.0
PRODID:spatie/icalendar-generator
DESCRIPTION:Events from Národní platforma Open Science
X-WR-CALDESC:Events from Národní platforma Open Science
REFRESH-INTERVAL;VALUE=DURATION:PT1440M
X-PUBLISHED-TTL:PT1440M
BEGIN:VTIMEZONE
TZID:Etc/GMT+0
BEGIN:STANDARD
DTSTART:20240708T000000Z
TZOFFSETFROM:+0000
TZOFFSETTO:+0000
END:STANDARD
END:VTIMEZONE
BEGIN:VTIMEZONE
TZID:UTC
BEGIN:STANDARD
DTSTART:20250727T172639Z
TZOFFSETFROM:+0000
TZOFFSETTO:+0000
END:STANDARD
END:VTIMEZONE
BEGIN:VEVENT
UID:78-78
DTSTAMP:20260423T172639Z
SUMMARY:Zpracování velkých dat na superpočítačích
LOCATION:
ORGANIZER;CN=admin:MAILTO:admin@openscience.cz
DTSTART;TZID=Etc/GMT+0;VALUE=DATE:20250404
DTEND;TZID=Etc/GMT+0;VALUE=DATE:20250405
X-ALT-DESC;FMTTYPE=TEXT/HTML:<p>Online</p>\n<p>Pořadatel: EOSC CZ</p>\n<p>
 Bližší informace naleznete na <a href="https://www.eosc.cz/novinky-a-a
 kce/kalendar-akci/zpracovani-velkych-dat-na-superpocitacich" target="_bl
 ank">webu události</a>.</p>\n
CATEGORIES:
URL;VALUE=URI:https://openscience.cz/mc-events/zpracovani-velkych-dat-na-su
 perpocitacich/?mc_id=78
END:VEVENT
END:VCALENDAR