BEGIN:VCALENDAR
VERSION:2.0
PRODID:spatie/icalendar-generator
DESCRIPTION:Events from Národní platforma Open Science
X-WR-CALDESC:Events from Národní platforma Open Science
REFRESH-INTERVAL;VALUE=DURATION:PT1440M
X-PUBLISHED-TTL:PT1440M
BEGIN:VTIMEZONE
TZID:Etc/GMT+0
BEGIN:STANDARD
DTSTART:20240906T000000Z
TZOFFSETFROM:+0000
TZOFFSETTO:+0000
END:STANDARD
END:VTIMEZONE
BEGIN:VTIMEZONE
TZID:UTC
BEGIN:STANDARD
DTSTART:20250724T090135Z
TZOFFSETFROM:+0000
TZOFFSETTO:+0000
END:STANDARD
END:VTIMEZONE
BEGIN:VEVENT
UID:82-82
DTSTAMP:20260420T090135Z
SUMMARY:DIAMAS Final Conference
LOCATION:
ORGANIZER;CN=admin:MAILTO:admin@openscience.cz
DTSTART;TZID=Etc/GMT+0;VALUE=DATE:20250603
DTEND;TZID=Etc/GMT+0;VALUE=DATE:20250604
X-ALT-DESC;FMTTYPE=TEXT/HTML:<p>Bližší informace naleznete na <a href="https://diamasproject.eu/announcement-diamas-conference-03-06-25/" target="_blank">webu konference</a>.</p>\n
CATEGORIES:
URL;VALUE=URI:https://openscience.cz/mc-events/diamas-final-conference/?mc_
 id=82
END:VEVENT
END:VCALENDAR