BEGIN:VCALENDAR
VERSION:2.0
PRODID:spatie/icalendar-generator
DESCRIPTION:Events from Národní platforma Open Science
X-WR-CALDESC:Events from Národní platforma Open Science
REFRESH-INTERVAL;VALUE=DURATION:PT1440M
X-PUBLISHED-TTL:PT1440M
BEGIN:VTIMEZONE
TZID:Etc/GMT+0
BEGIN:STANDARD
DTSTART:20240926T000000Z
TZOFFSETFROM:+0000
TZOFFSETTO:+0000
END:STANDARD
END:VTIMEZONE
BEGIN:VTIMEZONE
TZID:UTC
BEGIN:STANDARD
DTSTART:20250723T235905Z
TZOFFSETFROM:+0000
TZOFFSETTO:+0000
END:STANDARD
END:VTIMEZONE
BEGIN:VEVENT
UID:83-83
DTSTAMP:20260419T235905Z
SUMMARY:OER25 – Speaking Truth to Power – Open Education and AI in the 
 Age of Populism
LOCATION:
ORGANIZER;CN=admin:MAILTO:admin@openscience.cz
DTSTART;TZID=Etc/GMT+0;VALUE=DATE:20250623
DTEND;TZID=Etc/GMT+0;VALUE=DATE:20250625
X-ALT-DESC;FMTTYPE=TEXT/HTML:<p>Bližší informace jsou k dispozici na <a href="https://www.alt.ac.uk/civicrm/event/info?reset=1&amp;amp\;id=978">webu události</a>.</p>\n
CATEGORIES:
URL;VALUE=URI:https://openscience.cz/mc-events/oer25-speaking-truth-to-powe
 r-open-education-and-ai-in-the-age-of-populism/?mc_id=83
END:VEVENT
END:VCALENDAR