BEGIN:VCALENDAR
VERSION:2.0
PRODID:spatie/icalendar-generator
DESCRIPTION:Events from Národní platforma Open Science
X-WR-CALDESC:Events from Národní platforma Open Science
REFRESH-INTERVAL;VALUE=DURATION:PT1440M
X-PUBLISHED-TTL:PT1440M
BEGIN:VTIMEZONE
TZID:Etc/GMT+0
BEGIN:STANDARD
DTSTART:20240714T000000Z
TZOFFSETFROM:+0000
TZOFFSETTO:+0000
END:STANDARD
END:VTIMEZONE
BEGIN:VTIMEZONE
TZID:UTC
BEGIN:STANDARD
DTSTART:20250727T103838Z
TZOFFSETFROM:+0000
TZOFFSETTO:+0000
END:STANDARD
END:VTIMEZONE
BEGIN:VEVENT
UID:85-85
DTSTAMP:20260423T103838Z
SUMMARY:Cost Benefit Analysis Framework for Open Science
LOCATION:
ORGANIZER;CN=admin:MAILTO:admin@openscience.cz
DTSTART;TZID=Etc/GMT+0;VALUE=DATE:20250410
DTEND;TZID=Etc/GMT+0;VALUE=DATE:20250411
X-ALT-DESC;FMTTYPE=TEXT/HTML:<p>Online webinář</p>\n<p>Pořadatel: Projek
 t PathOS</p>\n<p>Bližší informace a možnost registrace jsou k dispozic
 i na <a href="https://zoom.us/meeting/register/OxgQrFsVSPqkLSrQ1Xn2NA#/re
 gistration" target="_blank">webu události</a>.</p>\n
CATEGORIES:
URL;VALUE=URI:https://openscience.cz/mc-events/cost-benefit-analysis-framew
 ork-for-open-science/?mc_id=85
END:VEVENT
END:VCALENDAR