BEGIN:VCALENDAR
VERSION:2.0
PRODID:spatie/icalendar-generator
DESCRIPTION:Events from Národní platforma Open Science
X-WR-CALDESC:Events from Národní platforma Open Science
REFRESH-INTERVAL;VALUE=DURATION:PT1440M
X-PUBLISHED-TTL:PT1440M
BEGIN:VTIMEZONE
TZID:Etc/GMT+0
BEGIN:STANDARD
DTSTART:20240726T000000Z
TZOFFSETFROM:+0000
TZOFFSETTO:+0000
END:STANDARD
END:VTIMEZONE
BEGIN:VTIMEZONE
TZID:UTC
BEGIN:STANDARD
DTSTART:20250725T050135Z
TZOFFSETFROM:+0000
TZOFFSETTO:+0000
END:STANDARD
END:VTIMEZONE
BEGIN:VEVENT
UID:88-88
DTSTAMP:20260421T050135Z
SUMMARY:Building a Sustainable Future for Open Science (webinář)
LOCATION:
ORGANIZER;CN=admin:MAILTO:admin@openscience.cz
DTSTART;TZID=Etc/GMT+0;VALUE=DATE:20250422
DTEND;TZID=Etc/GMT+0;VALUE=DATE:20250423
X-ALT-DESC;FMTTYPE=TEXT/HTML:<p>Celý název: Building a Sustainable Future
  for Open Science: Meet SCOSS’s Latest Endorsed Infrastructures</p>\n<p>
 Pořadatel: LIBER a SCOSS (Sustainability Coalition for Open Science Servi
 ces)</p>\n<p>Bližší informace a možnost registrace jsou k dispozici na
  <a href="https://us06web.zoom.us/meeting/register/_1RpY1q9S0idBBLWCpnYfg
 ?mc_cid=8d44fa60ae&amp;amp\;mc_eid=33ab2ca376#/registration" target="_blank\
 ">webu události</a>.</p>\n
CATEGORIES:
URL;VALUE=URI:https://openscience.cz/mc-events/building-a-sustainable-futur
 e-for-open-science-webinar/?mc_id=88
END:VEVENT
END:VCALENDAR