BEGIN:VCALENDAR
VERSION:2.0
PRODID:spatie/icalendar-generator
DESCRIPTION:Events from Národní platforma Open Science
X-WR-CALDESC:Events from Národní platforma Open Science
REFRESH-INTERVAL;VALUE=DURATION:PT1440M
X-PUBLISHED-TTL:PT1440M
BEGIN:VTIMEZONE
TZID:Etc/GMT+0
BEGIN:STANDARD
DTSTART:20240822T000000Z
TZOFFSETFROM:+0000
TZOFFSETTO:+0000
END:STANDARD
END:VTIMEZONE
BEGIN:VTIMEZONE
TZID:UTC
BEGIN:STANDARD
DTSTART:20250724T175324Z
TZOFFSETFROM:+0000
TZOFFSETTO:+0000
END:STANDARD
END:VTIMEZONE
BEGIN:VEVENT
UID:92-92
DTSTAMP:20260420T175324Z
SUMMARY:Secondary Publication Rights for research. What are the options to 
 openly publish your research?
LOCATION:
ORGANIZER;CN=admin:MAILTO:admin@openscience.cz
DTSTART;TZID=Etc/GMT+0;VALUE=DATE:20250519
DTEND;TZID=Etc/GMT+0;VALUE=DATE:20250520
X-ALT-DESC;FMTTYPE=TEXT/HTML:<p>Online</p>\n<p>Pořadatel: INSPIRING ERA\, 
 IP4OS</p>\n<p>Bližší informace jsou k dispozici na <a href="https://ww
 w.inspiring-era.eu/event/secondary-publication-rights-for-research-what-ar
 e-the-options-to-publish-your-research/" target="_blank">webu události
 </a>.</p>\n
CATEGORIES:
URL;VALUE=URI:https://openscience.cz/mc-events/secondary-publication-rights
 -for-research-what-are-the-options-to-openly-publish-your-research/?mc_id=
 92
END:VEVENT
END:VCALENDAR