BEGIN:VCALENDAR
VERSION:2.0
PRODID:spatie/icalendar-generator
DESCRIPTION:Events from Národní platforma Open Science
X-WR-CALDESC:Events from Národní platforma Open Science
REFRESH-INTERVAL;VALUE=DURATION:PT1440M
X-PUBLISHED-TTL:PT1440M
BEGIN:VTIMEZONE
TZID:Etc/GMT+0
BEGIN:STANDARD
DTSTART:20240810T000000Z
TZOFFSETFROM:+0000
TZOFFSETTO:+0000
END:STANDARD
END:VTIMEZONE
BEGIN:VTIMEZONE
TZID:UTC
BEGIN:STANDARD
DTSTART:20250724T214807Z
TZOFFSETFROM:+0000
TZOFFSETTO:+0000
END:STANDARD
END:VTIMEZONE
BEGIN:VEVENT
UID:96-96
DTSTAMP:20260420T214807Z
SUMMARY:CZARMA REGON – Novela zákona 130
LOCATION:Univerzita Karlova\, Modrá posluchárna Celetná 16  Praha 1
ORGANIZER;CN=admin:MAILTO:admin@openscience.cz
DTSTART;TZID=Etc/GMT+0;VALUE=DATE:20250507
DTEND;TZID=Etc/GMT+0;VALUE=DATE:20250508
X-ALT-DESC;FMTTYPE=TEXT/HTML:<p>Diskuze s PhDr. Pavlem Dolečkem\, Ph.D. (n
 áměstkem ministra pro vědu\, výzkum a inovace) k novému zákonu o vý
 zkumu\, vývoji\, inovacích a transferu znalostí\, který má nahradit d
 osavadní zákon č. 130/2002 Sb. a který přináší komplexní změny v
  českém vědeckém prostředí.</p>\n<p>Možnost zúčastnit se také on
 line.</p>\n<p>Bližší informace a možnost registrace naleznete na <a target="_blank">webu události</a>.</p>\n
CATEGORIES:
URL;VALUE=URI:https://openscience.cz/mc-events/czarma-regon-novela-zakona-1
 30/?mc_id=96
END:VEVENT
END:VCALENDAR