BEGIN:VCALENDAR
VERSION:2.0
PRODID:spatie/icalendar-generator
DESCRIPTION:Events from Národní platforma Open Science
X-WR-CALDESC:Events from Národní platforma Open Science
REFRESH-INTERVAL;VALUE=DURATION:PT1440M
X-PUBLISHED-TTL:PT1440M
BEGIN:VTIMEZONE
TZID:Etc/GMT+0
BEGIN:STANDARD
DTSTART:20250109T000000Z
TZOFFSETFROM:+0000
TZOFFSETTO:+0000
END:STANDARD
END:VTIMEZONE
BEGIN:VTIMEZONE
TZID:UTC
BEGIN:STANDARD
DTSTART:20250723T164314Z
TZOFFSETFROM:+0000
TZOFFSETTO:+0000
END:STANDARD
END:VTIMEZONE
BEGIN:VEVENT
UID:102-102
DTSTAMP:20260419T164314Z
SUMMARY:CRAFT-OA Conference
LOCATION:University of Göttingen
ORGANIZER;CN=admin:MAILTO:admin@openscience.cz
DTSTART;TZID=Etc/GMT+0;VALUE=DATE:20251006
DTEND;TZID=Etc/GMT+0;VALUE=DATE:20251009
X-ALT-DESC;FMTTYPE=TEXT/HTML:<p>Crafting the Future of Diamond Open Access:
  Technical\, Social &amp;amp\; Political Perspectives of Scholarly Publishing</p>\n<p>Bližší informace naleznete na <a href="https://www.craft-oa.eu
 /conference/" target="_blank">webu konference</a>.</p>\n
CATEGORIES:
URL;VALUE=URI:https://openscience.cz/mc-events/craft-oa-conference/?mc_id=1
 02
END:VEVENT
END:VCALENDAR