BEGIN:VCALENDAR
VERSION:2.0
PRODID:spatie/icalendar-generator
DESCRIPTION:Events from Národní platforma Open Science
X-WR-CALDESC:Events from Národní platforma Open Science
REFRESH-INTERVAL;VALUE=DURATION:PT1440M
X-PUBLISHED-TTL:PT1440M
BEGIN:VTIMEZONE
TZID:Etc/GMT+0
BEGIN:STANDARD
DTSTART:20250322T000000Z
TZOFFSETFROM:+0000
TZOFFSETTO:+0000
END:STANDARD
END:VTIMEZONE
BEGIN:VTIMEZONE
TZID:UTC
BEGIN:STANDARD
DTSTART:20250723T203511Z
TZOFFSETFROM:+0000
TZOFFSETTO:+0000
END:STANDARD
END:VTIMEZONE
BEGIN:VEVENT
UID:113-113
DTSTAMP:20260419T203511Z
SUMMARY:Integrity\, Open Science and Artificial Intelligence in Academia an
 d Beyond – Meeting at the Crossroads
LOCATION:
ORGANIZER;CN=admin:MAILTO:admin@openscience.cz
DTSTART;TZID=Etc/GMT+0;VALUE=DATE:20251217
DTEND;TZID=Etc/GMT+0;VALUE=DATE:20251219
X-ALT-DESC;FMTTYPE=TEXT/HTML:<p>Online</p>\n<p>Bližší informace jsou k d
 ispozici na <a href="https://armgpublishing.com/3rd-international-confere
 nce/" target="_blank">webu konference</a>.</p>\n
CATEGORIES:
URL;VALUE=URI:https://openscience.cz/mc-events/integrity-open-science-and-a
 rtificial-intelligence-in-academia-and-beyond-meeting-at-the-crossroads/?m
 c_id=113
END:VEVENT
END:VCALENDAR