BEGIN:VCALENDAR
VERSION:2.0
PRODID:spatie/icalendar-generator
DESCRIPTION:Events from Národní platforma Open Science
X-WR-CALDESC:Events from Národní platforma Open Science
REFRESH-INTERVAL;VALUE=DURATION:PT1440M
X-PUBLISHED-TTL:PT1440M
BEGIN:VTIMEZONE
TZID:Etc/GMT+0
BEGIN:STANDARD
DTSTART:20250807T000000Z
TZOFFSETFROM:+0000
TZOFFSETTO:+0000
END:STANDARD
END:VTIMEZONE
BEGIN:VTIMEZONE
TZID:UTC
BEGIN:STANDARD
DTSTART:20250724T012024Z
TZOFFSETFROM:+0000
TZOFFSETTO:+0000
END:STANDARD
END:VTIMEZONE
BEGIN:VEVENT
UID:115-115
DTSTAMP:20260420T012024Z
SUMMARY:FOR2026 – The Future of Open Research – Reliable\, Responsible\
 , Equitable
LOCATION:Technical University of Munich   Munich
ORGANIZER;CN=admin:MAILTO:admin@openscience.cz
DTSTART;TZID=Etc/GMT+0;VALUE=DATE:20260504
DTEND;TZID=Etc/GMT+0;VALUE=DATE:20260507
X-ALT-DESC;FMTTYPE=TEXT/HTML:<p>Organizátor: Technical University of Munic
 h</p>\n<p>Bližší informace jsou k dispozici na <a href="https://opensc
 iencestudies.eu/for-2026-conference/" target="_blank">webu konference</
 a>.</p>\n
CATEGORIES:
URL;VALUE=URI:https://openscience.cz/mc-events/for2026-the-future-of-open-r
 esearch-reliable-responsible-equitable/?mc_id=115
END:VEVENT
END:VCALENDAR