BEGIN:VCALENDAR
VERSION:2.0
PRODID:spatie/icalendar-generator
DESCRIPTION:Events from Národní platforma Open Science
X-WR-CALDESC:Events from Národní platforma Open Science
REFRESH-INTERVAL;VALUE=DURATION:PT1440M
X-PUBLISHED-TTL:PT1440M
BEGIN:VTIMEZONE
TZID:Etc/GMT+0
BEGIN:STANDARD
DTSTART:20250104T000000Z
TZOFFSETFROM:+0000
TZOFFSETTO:+0000
END:STANDARD
END:VTIMEZONE
BEGIN:VTIMEZONE
TZID:UTC
BEGIN:STANDARD
DTSTART:20250723T194244Z
TZOFFSETFROM:+0000
TZOFFSETTO:+0000
END:STANDARD
END:VTIMEZONE
BEGIN:VEVENT
UID:125-124
DTSTAMP:20260419T194244Z
SUMMARY:Shape the Future of Research Data Curation in Europe!
LOCATION:
ORGANIZER;CN=admin:MAILTO:admin@openscience.cz
DTSTART;TZID=Etc/GMT+0;VALUE=DATE:20251001
DTEND;TZID=Etc/GMT+0;VALUE=DATE:20251003
X-ALT-DESC;FMTTYPE=TEXT/HTML:<p>Pořadatel: EOSC EDEN project</p>\n<p>Míst
 o konání: Lovaň\, Belgie</p>\n<p>Bližší informace jsou k dispozici n
 a <a href="https://eden-fidelis.eu/events/shape-future-research-data-cura
 tion-europe" target="_blank">webu události</a>.</p>\n
CATEGORIES:
URL;VALUE=URI:https://openscience.cz/mc-events/shape-the-future-of-research
 -data-curation-in-europe/?mc_id=125
END:VEVENT
END:VCALENDAR