BEGIN:VCALENDAR
VERSION:2.0
PRODID:spatie/icalendar-generator
DESCRIPTION:Events from Národní platforma Open Science
X-WR-CALDESC:Events from Národní platforma Open Science
REFRESH-INTERVAL;VALUE=DURATION:PT1440M
X-PUBLISHED-TTL:PT1440M
BEGIN:VTIMEZONE
TZID:Etc/GMT+0
BEGIN:STANDARD
DTSTART:20241227T000000Z
TZOFFSETFROM:+0000
TZOFFSETTO:+0000
END:STANDARD
END:VTIMEZONE
BEGIN:VTIMEZONE
TZID:UTC
BEGIN:STANDARD
DTSTART:20250723T223739Z
TZOFFSETFROM:+0000
TZOFFSETTO:+0000
END:STANDARD
END:VTIMEZONE
BEGIN:VEVENT
UID:126-125
DTSTAMP:20260419T223739Z
SUMMARY:Open Science Retreat
LOCATION:
ORGANIZER;CN=admin:MAILTO:admin@openscience.cz
DTSTART;TZID=Etc/GMT+0;VALUE=DATE:20250923
DTEND;TZID=Etc/GMT+0;VALUE=DATE:20250925
X-ALT-DESC;FMTTYPE=TEXT/HTML:<p>9. ročník Open Science Retreat s podtitul
 em \"Diamond OA: Utopian Dream or the Only Fair Future?\"</p>\n<p>Pořadat
 el: ZBW</p>\n<p>Místo konání: Online</p>\n<p>Bližší informace jsou k
  dispozici na <a href="https://openscienceretreat.zbw.eu/" target="_bla
 nk">webu události</a>.</p>\n
CATEGORIES:
URL;VALUE=URI:https://openscience.cz/mc-events/open-science-retreat/?mc_id=
 126
END:VEVENT
END:VCALENDAR