BEGIN:VCALENDAR
VERSION:2.0
PRODID:spatie/icalendar-generator
DESCRIPTION:Events from Národní platforma Open Science
X-WR-CALDESC:Events from Národní platforma Open Science
REFRESH-INTERVAL;VALUE=DURATION:PT1440M
X-PUBLISHED-TTL:PT1440M
BEGIN:VTIMEZONE
TZID:Etc/GMT+0
BEGIN:STANDARD
DTSTART:20241221T000000Z
TZOFFSETFROM:+0000
TZOFFSETTO:+0000
END:STANDARD
END:VTIMEZONE
BEGIN:VTIMEZONE
TZID:UTC
BEGIN:STANDARD
DTSTART:20250723T184616Z
TZOFFSETFROM:+0000
TZOFFSETTO:+0000
END:STANDARD
END:VTIMEZONE
BEGIN:VEVENT
UID:129-128
DTSTAMP:20260419T184616Z
SUMMARY:Webinář „Otevřená věda a výzkumná data\"
LOCATION:
ORGANIZER;CN=admin:MAILTO:admin@openscience.cz
DTSTART;TZID=Etc/GMT+0;VALUE=DATE:20250917
DTEND;TZID=Etc/GMT+0;VALUE=DATE:20250918
X-ALT-DESC;FMTTYPE=TEXT/HTML:<p>Pořadatel: TA ČR</p>\n<p>Bližší inform
 ace a možnost registrace jsou k dispozici na <a href="https://tacr.gov.c
 z/webinar-otevrena-veda-a-vyzkumna-data/" target="_blank">webu webiná
 ře</a>.</p>\n
CATEGORIES:
URL;VALUE=URI:https://openscience.cz/mc-events/webinar-otevrena-veda-a-vyzk
 umna-data/?mc_id=129
END:VEVENT
END:VCALENDAR