BEGIN:VCALENDAR
VERSION:2.0
PRODID:spatie/icalendar-generator
DESCRIPTION:Events from Národní platforma Open Science
X-WR-CALDESC:Events from Národní platforma Open Science
REFRESH-INTERVAL;VALUE=DURATION:PT1440M
X-PUBLISHED-TTL:PT1440M
BEGIN:VTIMEZONE
TZID:Etc/GMT+0
BEGIN:STANDARD
DTSTART:20250119T000000Z
TZOFFSETFROM:+0000
TZOFFSETTO:+0000
END:STANDARD
END:VTIMEZONE
BEGIN:VTIMEZONE
TZID:UTC
BEGIN:STANDARD
DTSTART:20250723T191612Z
TZOFFSETFROM:+0000
TZOFFSETTO:+0000
END:STANDARD
END:VTIMEZONE
BEGIN:VEVENT
UID:135-134
DTSTAMP:20260419T191612Z
SUMMARY:4th United Nations Open Science &amp;amp\; Open Scholarship Confere
 nce
LOCATION:
ORGANIZER;CN=admin:MAILTO:admin@openscience.cz
DTSTART;TZID=Etc/GMT+0:20251016T000000
DTEND;TZID=Etc/GMT+0:20251018T010000
X-ALT-DESC;FMTTYPE=TEXT/HTML:<p>Místo konání: Tokio (Japonsko) nebo onli
 ne</p>\n<p>Bližší informace a možnost registrace jsou k dispozici na <a href="https://www.un.org/en/library/OS25" target="_blank">webu konfe
 rence</a>.</p>\n
CATEGORIES:
URL;VALUE=URI:https://openscience.cz/mc-events/4th-united-nations-open-scie
 nce-open-scholarship-conference/?mc_id=135
END:VEVENT
END:VCALENDAR